BEGIN:VCALENDAR
VERSION:2.0
PRODID:-//HAYVN - ECPv6.15.6//NONSGML v1.0//EN
CALSCALE:GREGORIAN
METHOD:PUBLISH
X-WR-CALNAME:HAYVN
X-ORIGINAL-URL:https://hayvn.com
X-WR-CALDESC:Events for HAYVN
REFRESH-INTERVAL;VALUE=DURATION:PT1H
X-Robots-Tag:noindex
X-PUBLISHED-TTL:PT1H
BEGIN:VTIMEZONE
TZID:America/New_York
BEGIN:DAYLIGHT
TZOFFSETFROM:-0500
TZOFFSETTO:-0400
TZNAME:EDT
DTSTART:20250309T070000
END:DAYLIGHT
BEGIN:STANDARD
TZOFFSETFROM:-0400
TZOFFSETTO:-0500
TZNAME:EST
DTSTART:20251102T060000
END:STANDARD
BEGIN:DAYLIGHT
TZOFFSETFROM:-0500
TZOFFSETTO:-0400
TZNAME:EDT
DTSTART:20260308T070000
END:DAYLIGHT
BEGIN:STANDARD
TZOFFSETFROM:-0400
TZOFFSETTO:-0500
TZNAME:EST
DTSTART:20261101T060000
END:STANDARD
BEGIN:DAYLIGHT
TZOFFSETFROM:-0500
TZOFFSETTO:-0400
TZNAME:EDT
DTSTART:20270314T070000
END:DAYLIGHT
BEGIN:STANDARD
TZOFFSETFROM:-0400
TZOFFSETTO:-0500
TZNAME:EST
DTSTART:20271107T060000
END:STANDARD
END:VTIMEZONE
BEGIN:VEVENT
DTSTART;TZID=America/New_York:20260515T090000
DTEND;TZID=America/New_York:20260515T170000
DTSTAMP:20260424T075734
CREATED:20260408T172259Z
LAST-MODIFIED:20260408T172310Z
UID:10003464-1778835600-1778864400@hayvn.com
SUMMARY:Monthly Marketing Meetups:  Ask The Experts 10am + Mktg Collective 11:30am: Marketing with Intent
DESCRIPTION:Overview\n\n\n\n\n\nConnecting\, exchanging insights/resources w/ fellow marketers across diverse fields\, such as content creation\, branding\, design\, video & AI.\n\n\n\nMONTHLY MARKETING MEETUPS at HAYVN\nIN-PERSON EVENT\nFriday\, 5/15/26: 9am-5pm\n\n10am-11am: Ask The Experts\n11:30am-12:30pm: Marketing Collective Monthly Meetup Overview: Marketing with Intent – Using the ASPEN Method to Prevent “Random Acts of Marketing”. Featuring speaker Jenn Grace\, Founder\, Publisher & CEO\, Publish Your Purpose\n\n\n9am-5pm: Marketing Coworking Day – cowork at HAYVN for the day with your peers\n\nCOST\n\nHAYVN Members: Free with code on members portal. For help accessing members portal please email questions@hayvn.com\nNon-Members: $25\, includes your day of coworking at HAYVN\n\nLOCATION\n\nHAYVN Darien\n\n\n\n\n\n\n\n\n\n\n\n\nJoin us for HAYVN’S Monthly Marketing Meetups which may include:\n\nConnecting and exchanging insights and resources with fellow marketers across diverse fields\, such as content creation\, branding\, design\, video production\, AI\, and more.\nFeatured expert guest speakers and workshops/training\nAsk The Experts\nMarketing Collective Meetup\nHAYVN Marketing Podcast\nHow to participate in HAYVN’s Marketing Cooperative\nPlus\, marketers can cowork at HAYVN for the day\n\n\n\n\n\nABOUT ASK THE EXPERTS: 10am-11am\nBring your burning marketing questions and get real-time advice from HAYVN’s multidisciplinary panel of marketing professionals. Open to public. \n\n\n\n\n\n\n\n\n\n\n\nABOUT THE MARKETING COLLECTIVE: 11:30am-12:30pm\nThe HAYVN Marketing Collective is a dynamic group of marketing professionals who come together monthly to network\, share insights\, and exchange resources. Through guest speakers\, interactive sessions\, and masterminds\, members collaborate to solve business challenges and work cross-functionally on paid marketing projects. This collective fosters innovation and teamwork\, driving growth for businesses and entrepreneurs alike. \n\n\n\n\n\n\n\n\n\n\n\nABOUT HAYVN HUB FOR MARKETING\nHAYVN’s membership boasts passionate marketers from every industry and marketing discipline – social\, email\, branding\, strategy\, design\, video\, copywriting\, public relations and more. They provide a wealth of knowledge for the HAYVN community as well as a dynamic\, supportive network for each other. \nThe HAYVN Hub for Marketing is the newest addition to HAYVN’s roster of subject matter hubs that currently include Sustainability and Social Impact\, Health and Wellness\, Empowering Women and Entrepreneurship – all adding to the diverse mix of talented professionals that are a part of fabric of HAYVN. \n\n\n\n\n\n\n\n\n\n\n\nQuestions? Contact communitymanager@hayvn.com\nCAN’T MAKE THIS EVENT? Get on our email list for future event notifications. \nCURIOUS ABOUT HAYVN? Book a tour \nWANT TO SEE MORE? View our full calendar of events \n\n\n\n\n\n			\n			\n				\n				\n				\n				\n			\n				\n				\n				\n				\n				\n				\n				\n				\n				\n				\n				CAN’T MAKE THIS EVENT?   Get on our email list for future event notifications \n			\n				\n				\n				\n				\n				CURIOUS ABOUT HAYVN?  \nBook a tour \n			\n				\n				\n				\n				\n				WANT TO SEE MORE?   \nView our full event calendar
URL:https://hayvn.com/event/marketing-meetups-2026-05-15/
LOCATION:HAYVN Darien\, 320 Post Road\, Darien\, CT\, 06820\, United States
CATEGORIES:Ask The Expert,Business and Strategy,Marketing,Marketing Collective,Marketing Coworking Day,Marketing Hot Seat,MONTHLY MARKETING MEETUPS,Personal and Professional Development
ATTACH;FMTTYPE=image/jpeg:https://hayvn.com/wp-content/uploads/2026/04/2_MonthlyMarketingMeetup_MarketingCollective_May15-EventsCal.jpg
ORGANIZER;CN="HAYVN":MAILTO:communitymanager@hayvn.com
END:VEVENT
BEGIN:VEVENT
DTSTART;TZID=America/New_York:20260521T120000
DTEND;TZID=America/New_York:20260521T133000
DTSTAMP:20260424T075734
CREATED:20260417T152328Z
LAST-MODIFIED:20260417T152339Z
UID:10003471-1779364800-1779370200@hayvn.com
SUMMARY:Entrepreneurial Women's Collective (EWC) Luncheon: You Built It. Are you Still Choosing It w/ Eileen Benwitt
DESCRIPTION:Entrepreneurial Women’s Collective (EWC) Luncheon Event\nIN-PERSON EVENT at HAYVN DARIEN\nThursday\, 5/21/26\, 12pm-1:30pm\nConnect with smart\, supportive entrepreneurial women\, learn new things\, build relationships\, and have fun. \nPlease join us for this exciting lunch event. Admission includes luncheon.\n\nHAYVN Members w/ Discount Code* – $25 Early Bird (ends one week prior to event)\nHAYVN Members w/ Discount Code* – $35 (one week leading up to event)\nNon-HAYVN Members – $50\n\nNOTE: Early bird ticket sales end one week before event.* Discount codes on members portal. For help accessing members portal please email questions@hayvn.com \nProgram Topic: You Built It. Are you Still Choosing It\nEileen Benwitt\, Executive Confidant/Leadership Coach \nPlus Member Spotlight: Jennifer Glover Keller\, Business Productivity Consultant \nParticipants will leave with a simple way to recognize and return to agency in real time:\nThe Agency Check: \n\nIs this mine to choose or am I reacting?\nWhat is driving this decision?\nIf I didn’t do this\, what feels at risk?\nDoes this feel like something I’m stepping into or carrying?\nDid I choose this or did I default to it?\n\nAgency isn’t something you have\, it’s something you practice.\n\nThere’s a difference between running your business and being run by it.\nNot all “yeses” are choices. Some are pressure in disguise.\nEnergy is a signal.\nYou don’t need to rebuild\, you need to re-choose.\nThe difference between independence\, empowerment and agency\n\nABOUT OUR SPEAKER: \n\n\n\n\n\n\n\n\n\nEileen Benwitt is an Executive Confidant\, leadership coach with over three decades of experience at the intersection of influence\, people\, and culture\, including serving as a C-suite HR executive. Known for her emotional precision\, blunt grace\, and a commitment to honest self-reflection\, she partners with leaders and organizations to reclaim what is real within themselves and the systems they lead. \nHer approach integrates executive development\, emotional resilience\, relational intelligence\, and alignment-based leadership to support leaders navigating uncertainty\, honoring their capacity\, and modeling sustainability\, leading from self-awareness rather than performance. Through 1:1 partnerships\, group experiences\, and organizational advisory work\, she reframes leadership as an inside job — one that begins with understanding oneself and extends into how we show up for others. When leaders lead from this place\, their presence lifts others rather than depletes them\, making work feel human again\, influencing organizations in ways that are both deeply human and deeply consequential. \nEileen’s work is grounded in lived experience. Over the course of her career\, she witnessed firsthand how internal misalignment can impact wellbeing and overall capacity — insight later deepened through her own professional reinvention. That experience now informs how she partners with others. \nAt its core\, Eileen’s work reflects a simple belief: leadership begins with understanding ourselves. This work is most powerful when it is knitted into the natural evolution of leadership\, supporting growth as it unfolds rather than interrupting it. \nSpeaker link: LinkedIn\, website \n\n\n\n\nAbout The Entrepreneurial Women’s Collective (EWC) \nThe Entrepreneurial Women’s Collective was born in 2015 as a way to offer meaningful networking and professional development to women business owners. Since that time\, the EWC network has expanded\, special friendships have formed and business has happened\, all while learning from some pretty amazing speakers. EWC’s mission is to bring smart\, supportive women together and watch the magic happen. \nWhen we ask the members what they like best\, the #1 answer is “the women in the room”. Words like high quality\, warm\, welcoming\, willing to help one another are heard over and over again. Go to HAYVN.com/EWC to become a member. \n\n\n\n\nQuestions? Contact questions@hayvn.com \nCAN’T MAKE THIS EVENT? Get on our email list for future event notifications. \nCURIOUS ABOUT HAYVN? Book a tour \nWANT TO SEE MORE? View our full calendar of events \n\n\n\n			\n			\n				\n				\n				\n				\n			\n				\n				\n				\n				\n				\n				\n				\n				\n				\n				\n				CAN’T MAKE THIS EVENT?   \nGet on our email list for future event notifications\n			\n				\n				\n				\n				\n				CURIOUS ABOUT HAYVN?  \nBook a tour \n			\n				\n				\n				\n				\n				WANT TO SEE MORE?   \nView our full event calendar
URL:https://hayvn.com/event/hayvn-ewc-2026-05-21/
LOCATION:HAYVN Darien\, 320 Post Road\, Darien\, CT\, 06820\, United States
CATEGORIES:Business and Strategy,Health and Wellness,Marketing,Networking,Personal and Professional Development,Technology and Productivity
ATTACH;FMTTYPE=image/jpeg:https://hayvn.com/wp-content/uploads/2026/04/EWC_May2026_Social-EventsCal.jpg
ORGANIZER;CN="HAYVN":MAILTO:communitymanager@hayvn.com
END:VEVENT
END:VCALENDAR