BEGIN:VCALENDAR
VERSION:2.0
PRODID:-//HAYVN - ECPv6.15.6//NONSGML v1.0//EN
CALSCALE:GREGORIAN
METHOD:PUBLISH
X-WR-CALNAME:HAYVN
X-ORIGINAL-URL:https://hayvn.com
X-WR-CALDESC:Events for HAYVN
REFRESH-INTERVAL;VALUE=DURATION:PT1H
X-Robots-Tag:noindex
X-PUBLISHED-TTL:PT1H
BEGIN:VTIMEZONE
TZID:America/New_York
BEGIN:DAYLIGHT
TZOFFSETFROM:-0500
TZOFFSETTO:-0400
TZNAME:EDT
DTSTART:20250309T070000
END:DAYLIGHT
BEGIN:STANDARD
TZOFFSETFROM:-0400
TZOFFSETTO:-0500
TZNAME:EST
DTSTART:20251102T060000
END:STANDARD
BEGIN:DAYLIGHT
TZOFFSETFROM:-0500
TZOFFSETTO:-0400
TZNAME:EDT
DTSTART:20260308T070000
END:DAYLIGHT
BEGIN:STANDARD
TZOFFSETFROM:-0400
TZOFFSETTO:-0500
TZNAME:EST
DTSTART:20261101T060000
END:STANDARD
BEGIN:DAYLIGHT
TZOFFSETFROM:-0500
TZOFFSETTO:-0400
TZNAME:EDT
DTSTART:20270314T070000
END:DAYLIGHT
BEGIN:STANDARD
TZOFFSETFROM:-0400
TZOFFSETTO:-0500
TZNAME:EST
DTSTART:20271107T060000
END:STANDARD
END:VTIMEZONE
BEGIN:VEVENT
DTSTART;TZID=America/New_York:20260505T173000
DTEND;TZID=America/New_York:20260505T193000
DTSTAMP:20260420T011323
CREATED:20260408T202711Z
LAST-MODIFIED:20260408T202725Z
UID:10003466-1778002200-1778009400@hayvn.com
SUMMARY:HAYVN LIVE: An Evening with James Frey\, Bestselling Author
DESCRIPTION:HAYVN LIVE: An Evening with James Frey\, Bestselling Author\nTuesday\, May 5 | 6:00–7:30pm\nVIP Meet & Greet: 5:30–6:00pm\nJoin us for an intimate\, thought-provoking evening with bestselling author James Frey\, one of the most provocative and widely discussed literary voices of our time. \nIn conversation with moderator Nancy Sheed\, James will share the real story behind the headlines—his creative journey\, the highs and lows of his career\, and what it means to continually reinvent yourself. \nOften described as a “literary outlaw\,” James has written multiple global bestsellers—including A Million Little Pieces\, Bright Shiny Morning\, and The Final Testament of the Holy Bible—with more than 35 million copies sold worldwide and translations in 48 languages. His work has sparked conversation\, controversy\, and undeniable cultural impact. \nExpect an honest\, engaging dialogue that goes beyond the surface—touching on ambition\, resilience\, creativity\, and the complexities of building a life (and career) on your own terms. \nGuests will have the opportunity to purchase and have signed a copy of his latest paperback\, Next to Heaven. \nVIP Ticket Holders are invited to an exclusive pre-event meet & greet with James from 5:30–6:00pm. \nFEATURED SPEAKERS & MODERATOR:\n\nJames Frey\, Bestselling Author\, Instagram\, Simon & Schuster Official Page\nModerator: Nancy Sheed\, Sheed Communications\nBeverage sponsor: Owl’s Brew.\nMedia Sponsor: Darien New Canaan Lifestyle\n\nLOCATION:\n\nHAYVN Darien\, 320 Boston Post Road #Suite 180 Darien\, CT 06820\n\nCOST:\nMain Event begins at 6pm and follows an intimate VIP reception at 5:30pm. \nVIP Reception & Main Event: 5:30-7:30pm \n\nGeneral Admission: $100; Early Bird Tickets: $90\nHAYVN Members w/ Discount Code*: $75; Early Bird Tickets: $65\n\nMain Event: 6:00-7:30pm \n\nGeneral Admission: $35; Early Bird Tickets: $30\nHAYVN Members w/ Discount Code*: $20; Early Bird Tickets: $18\n\nNOTE: Early bird ticket sales end two weeks before event.*Discount codes on members portal. For help accessing members portal please email questions@hayvn.com \n\n\n\n\n\n\n\n\n\nABOUT OUR SPEAKER AND MODERATOR:\n\n\n\n\n\n\n\n\n\nABOUT James Frey\, Bestselling Author\nJames Frey was called America’s Most Notorious Author by Time magazine\, America’s Most Important Author by Esquire magazine\, a Literary Outlaw by The New York Times\, and a snarling punk with two middle-fingers raised who singlehandedly changed literature by The Times of London. He has written multiple global bestsellers\, including A Million Little Pieces\, Bright Shiny Morning\, The Final Testament of the Holy Bible\, Katerina\, and Next to Heaven. He has sold more than 35 million books\, and his work is published in 48 languages. \nLINKS TO EXPLORE: Instagram\, Simon & Schuster Official Page \nABOUT NANCY SHEED\nNancy Sheed is a marketing strategist with more than 20 years experience in the communications and publishing industries. She helps people get confidently connected online and in person so they can be seen\, be found\, and be heard by their target audience. Her clients include authors\, thought leaders and entrepreneurs seeking to authentically integrate content marketing and community building into their branding and communications strategy. \n\n\n\n\n\n\n\n\n\nQuestions? Contact questions@hayvn.com \nCAN’T MAKE THIS EVENT? Get on our email list for future event notifications. \nCURIOUS ABOUT HAYVN? Book a tour \nWANT TO SEE MORE? View our full calendar of events
URL:https://hayvn.com/event/hayvn-livey-2026-05-05/
LOCATION:HAYVN Darien\, 320 Post Road\, Darien\, CT\, 06820\, United States
CATEGORIES:HAYVN HerStory,Personal and Professional Development,Social
ATTACH;FMTTYPE=image/jpeg:https://hayvn.com/wp-content/uploads/2026/04/HAYVN_Social_LIVE-May2026_V1-EventsCal.jpg
ORGANIZER;CN="HAYVN":MAILTO:communitymanager@hayvn.com
END:VEVENT
END:VCALENDAR